BEGIN:VCALENDAR
VERSION:2.0
PRODID:-//eventon.com NONSGML v1.0//EN
CALSCALE:GREGORIAN
METHOD:PUBLISH
BEGIN:VEVENT
UID:69e4d612472ab
DTSTAMP:20260419T131810Z
DTSTART:20231001
DTEND:20231101
LOCATION:
SUMMARY:Dyslexia Awareness Month
DESCRIPTION:\nhttps://dcpsmentalhealth.org/events/dyslexia-awareness-month/
URL:https://dcpsmentalhealth.org/events/dyslexia-awareness-month/
END:VEVENT
END:VCALENDAR